BEGIN:VCALENDAR
VERSION:2.0
PRODID:-//PPSDM Kemendikdasmen - ECPv6.11.2//NONSGML v1.0//EN
CALSCALE:GREGORIAN
METHOD:PUBLISH
X-WR-CALNAME:PPSDM Kemendikdasmen
X-ORIGINAL-URL:https://ppsdm.kemendikdasmen.go.id
X-WR-CALDESC:Events for PPSDM Kemendikdasmen
REFRESH-INTERVAL;VALUE=DURATION:PT1H
X-Robots-Tag:noindex
X-PUBLISHED-TTL:PT1H
BEGIN:VTIMEZONE
TZID:Asia/Jakarta
BEGIN:STANDARD
TZOFFSETFROM:+0700
TZOFFSETTO:+0700
TZNAME:WIB
DTSTART:20250101T000000
END:STANDARD
END:VTIMEZONE
BEGIN:VEVENT
DTSTART;VALUE=DATE:20250619
DTEND;VALUE=DATE:20250925
DTSTAMP:20260421T115304
CREATED:20250708T075108Z
LAST-MODIFIED:20250708T075108Z
UID:10000037-1750291200-1758758399@ppsdm.kemendikdasmen.go.id
SUMMARY:Pelatihan Dasar Calon Pegawai Negeri Sipil (CPNS) Lembaga Perlindungan Saksi dan Korban (LPSK) Angkatan 1 s.d. 4
DESCRIPTION:Pelatihan Dasar Calon Pegawai Negeri Sipil (CPNS) Lembaga Perlindungan Saksi dan Korban (LPSK) Angkatan 1 s.d. 4
URL:https://ppsdm.kemendikdasmen.go.id/event/pelatihan-dasar-calon-pegawai-negeri-sipil-cpns-lembaga-perlindungan-saksi-dan-korban-lpsk-angkatan-1-s-d-4/
LOCATION:PPSDM Kemendikdasmen\, PPSDM Kemendikdasmen
CATEGORIES:Pelatihan Dasar
ATTACH;FMTTYPE=image/jpeg:https://ppsdm.kemendikdasmen.go.id/wp-content/uploads/2025/05/WhatsApp-Image-2025-05-15-at-13.14.26.jpeg
GEO:-6.3638329;106.7456313
X-APPLE-STRUCTURED-LOCATION;VALUE=URI;X-ADDRESS=PPSDM Kemendikdasmen PPSDM Kemendikdasmen;X-APPLE-RADIUS=500;X-TITLE=PPSDM Kemendikdasmen:geo:106.7456313,-6.3638329
END:VEVENT
BEGIN:VEVENT
DTSTART;VALUE=DATE:20250626
DTEND;VALUE=DATE:20251005
DTSTAMP:20260421T115304
CREATED:20250708T075636Z
LAST-MODIFIED:20250708T075636Z
UID:10000038-1750896000-1759622399@ppsdm.kemendikdasmen.go.id
SUMMARY:Pelatihan Dasar Calon Pegawai Negeri Sipil (CPNS) Kemendikdasmen Angkatan 5 s.d. 7
DESCRIPTION:Pelatihan Dasar Calon Pegawai Negeri Sipil (CPNS) Kementerian Pendidikan Dasar dan Menengah (Kemendikdasmen) Angkatan 5 s.d. 7
URL:https://ppsdm.kemendikdasmen.go.id/event/pelatihan-dasar-calon-pegawai-negeri-sipil-cpns-kemendikdasmen-angkatan-5-s-d-7/
LOCATION:PPSDM Kemendikdasmen\, PPSDM Kemendikdasmen
CATEGORIES:Pelatihan Dasar
ATTACH;FMTTYPE=image/jpeg:https://ppsdm.kemendikdasmen.go.id/wp-content/uploads/2025/05/WhatsApp-Image-2025-05-15-at-13.14.26.jpeg
GEO:-6.3638329;106.7456313
X-APPLE-STRUCTURED-LOCATION;VALUE=URI;X-ADDRESS=PPSDM Kemendikdasmen PPSDM Kemendikdasmen;X-APPLE-RADIUS=500;X-TITLE=PPSDM Kemendikdasmen:geo:106.7456313,-6.3638329
END:VEVENT
BEGIN:VEVENT
DTSTART;VALUE=DATE:20250715
DTEND;VALUE=DATE:20251012
DTSTAMP:20260421T115304
CREATED:20250708T075912Z
LAST-MODIFIED:20250708T075912Z
UID:10000039-1752537600-1760227199@ppsdm.kemendikdasmen.go.id
SUMMARY:Pelatihan Dasar Calon Pegawai Negeri Sipil (CPNS) Kemendikdasmen Angkatan 8 s.d. 14
DESCRIPTION:Pelatihan Dasar Calon Pegawai Negeri Sipil (CPNS) Kementerian Pendidikan Dasar dan Menengah (Kemendikdasmen) Angkatan 8 s.d. 14
URL:https://ppsdm.kemendikdasmen.go.id/event/pelatihan-dasar-calon-pegawai-negeri-sipil-cpns-kemendikdasmen-angkatan-8-s-d-14/
LOCATION:PPSDM Kemendikdasmen\, PPSDM Kemendikdasmen
CATEGORIES:Pelatihan Dasar
ATTACH;FMTTYPE=image/jpeg:https://ppsdm.kemendikdasmen.go.id/wp-content/uploads/2025/05/WhatsApp-Image-2025-05-15-at-13.14.26.jpeg
GEO:-6.3638329;106.7456313
X-APPLE-STRUCTURED-LOCATION;VALUE=URI;X-ADDRESS=PPSDM Kemendikdasmen PPSDM Kemendikdasmen;X-APPLE-RADIUS=500;X-TITLE=PPSDM Kemendikdasmen:geo:106.7456313,-6.3638329
END:VEVENT
BEGIN:VEVENT
DTSTART;VALUE=DATE:20250808
DTEND;VALUE=DATE:20251113
DTSTAMP:20260421T115304
CREATED:20250929T020811Z
LAST-MODIFIED:20250929T020811Z
UID:10000068-1754611200-1762991999@ppsdm.kemendikdasmen.go.id
SUMMARY:Pelatihan Dasar Calon Pegawai Negeri Sipil (CPNS) BPOM Angkatan 21 s.d. 22
DESCRIPTION:Pelatihan Dasar Calon Pegawai Negeri Sipil (CPNS) Badan Pengawas Obat dan Makanan (BPOM) Angkatan 21 s.d. 22
URL:https://ppsdm.kemendikdasmen.go.id/event/pelatihan-dasar-calon-pegawai-negeri-sipil-cpns-bpom-angkatan-21-s-d-22/
LOCATION:Zoom Meetings\, Zoom Meetings
CATEGORIES:Pelatihan Dasar
ATTACH;FMTTYPE=image/jpeg:https://ppsdm.kemendikdasmen.go.id/wp-content/uploads/2025/05/WhatsApp-Image-2025-05-15-at-13.14.26.jpeg
END:VEVENT
BEGIN:VEVENT
DTSTART;VALUE=DATE:20250811
DTEND;VALUE=DATE:20251206
DTSTAMP:20260421T115304
CREATED:20250929T021946Z
LAST-MODIFIED:20250929T022022Z
UID:10000073-1754870400-1764979199@ppsdm.kemendikdasmen.go.id
SUMMARY:Pelatihan Kepemimpinan Administrator Angkatan 2
DESCRIPTION:Pelatihan Kepemimpinan Administrator Angkatan 2 Tahun 2025 dilaksanakan pada tanggal 11 Agustus  s.d. 5 Desember 2025. Pembelajaran dilaksanakan secara blended learning\, yaitu metode pembelajaran yang dilakukan dengan memadukan jalur pelatihan klasikal dengan jalur pelatihan nonklasikal. Pembelajaran klasikal dilaksanakan di Pusat Pelatihan Sumber Daya Manusia Kemendikdasmen. Sedangkan metode nonklasikal dilakukan melalui e-learning secara langsung (synchronous) dan tidak langsung (asynchronous) dari tempat kedudukan masing-masing peserta.
URL:https://ppsdm.kemendikdasmen.go.id/event/pelatihan-kepemimpinan-administrator-angkatan-2/
LOCATION:PPSDM Kemendikdasmen\, PPSDM Kemendikdasmen
CATEGORIES:Pelatihan Kepemimpinan
ATTACH;FMTTYPE=image/jpeg:https://ppsdm.kemendikdasmen.go.id/wp-content/uploads/2025/06/pexels-fauxels-3184438-scaled.jpg
GEO:-6.3638329;106.7456313
X-APPLE-STRUCTURED-LOCATION;VALUE=URI;X-ADDRESS=PPSDM Kemendikdasmen PPSDM Kemendikdasmen;X-APPLE-RADIUS=500;X-TITLE=PPSDM Kemendikdasmen:geo:106.7456313,-6.3638329
END:VEVENT
BEGIN:VEVENT
DTSTART;VALUE=DATE:20250811
DTEND;VALUE=DATE:20251206
DTSTAMP:20260421T115304
CREATED:20250929T022514Z
LAST-MODIFIED:20250929T022514Z
UID:10000075-1754870400-1764979199@ppsdm.kemendikdasmen.go.id
SUMMARY:Pelatihan Kepemimpinan Pengawas Angkatan 2
DESCRIPTION:Pelatihan Kepemimpinan Pengawas Angkatan 2 Tahun 2025 dilaksanakan pada tanggal 11 Agustus  s.d. 5 Desember 2025. Pembelajaran dilaksanakan secara blended learning\, yaitu metode pembelajaran yang dilakukan dengan memadukan jalur pelatihan klasikal dengan jalur pelatihan nonklasikal. Pembelajaran klasikal dilaksanakan di Pusat Pelatihan Sumber Daya Manusia Kemendikdasmen. Sedangkan metode nonklasikal dilakukan melalui e-learning secara langsung (synchronous) dan tidak langsung (asynchronous) dari tempat kedudukan masing-masing peserta.
URL:https://ppsdm.kemendikdasmen.go.id/event/pelatihan-kepemimpinan-pengawas-angkatan-2/
LOCATION:PPSDM Kemendikdasmen\, PPSDM Kemendikdasmen
CATEGORIES:Pelatihan Kepemimpinan
ATTACH;FMTTYPE=image/jpeg:https://ppsdm.kemendikdasmen.go.id/wp-content/uploads/2025/06/pexels-fauxels-3184438-scaled.jpg
GEO:-6.3638329;106.7456313
X-APPLE-STRUCTURED-LOCATION;VALUE=URI;X-ADDRESS=PPSDM Kemendikdasmen PPSDM Kemendikdasmen;X-APPLE-RADIUS=500;X-TITLE=PPSDM Kemendikdasmen:geo:106.7456313,-6.3638329
END:VEVENT
BEGIN:VEVENT
DTSTART;VALUE=DATE:20250815
DTEND;VALUE=DATE:20251120
DTSTAMP:20260421T115304
CREATED:20250929T020907Z
LAST-MODIFIED:20250929T020907Z
UID:10000069-1755216000-1763596799@ppsdm.kemendikdasmen.go.id
SUMMARY:Pelatihan Dasar Calon Pegawai Negeri Sipil (CPNS) BPOM Angkatan 23 s.d. 25
DESCRIPTION:Pelatihan Dasar Calon Pegawai Negeri Sipil (CPNS) Badan Pengawas Obat dan Makanan (BPOM) Angkatan 23 s.d. 25
URL:https://ppsdm.kemendikdasmen.go.id/event/pelatihan-dasar-calon-pegawai-negeri-sipil-cpns-bpom-angkatan-23-s-d-25/
LOCATION:Zoom Meetings\, Zoom Meetings
CATEGORIES:Pelatihan Dasar
ATTACH;FMTTYPE=image/jpeg:https://ppsdm.kemendikdasmen.go.id/wp-content/uploads/2025/05/WhatsApp-Image-2025-05-15-at-13.14.26.jpeg
END:VEVENT
BEGIN:VEVENT
DTSTART;VALUE=DATE:20250819
DTEND;VALUE=DATE:20251102
DTSTAMP:20260421T115304
CREATED:20250929T020619Z
LAST-MODIFIED:20250929T020619Z
UID:10000067-1755561600-1762041599@ppsdm.kemendikdasmen.go.id
SUMMARY:Pelatihan Dasar Calon Pegawai Negeri Sipil (CPNS) LPSK\, Kemenkebud\, MK\, Kab. Tapin Angkatan 15 s.d. 20
DESCRIPTION:Pelatihan Dasar Calon Pegawai Negeri Sipil (CPNS) Lembaga Perlindungan Saksi dan Korban\,  Kementerian Kebudayaan\, Mahkamah Konstitusi dan Pemerintah Kabupaten Tapin  Angkatan 15 s.d. 20.
URL:https://ppsdm.kemendikdasmen.go.id/event/pelatihan-dasar-calon-pegawai-negeri-sipil-cpns-lpsk-kemenkebud-mk-kab-tapin-angkatan-15-s-d-20/
LOCATION:PPSDM Kemendikdasmen\, PPSDM Kemendikdasmen
CATEGORIES:Pelatihan Dasar
ATTACH;FMTTYPE=image/jpeg:https://ppsdm.kemendikdasmen.go.id/wp-content/uploads/2025/05/WhatsApp-Image-2025-05-15-at-13.14.26.jpeg
GEO:-6.3638329;106.7456313
X-APPLE-STRUCTURED-LOCATION;VALUE=URI;X-ADDRESS=PPSDM Kemendikdasmen PPSDM Kemendikdasmen;X-APPLE-RADIUS=500;X-TITLE=PPSDM Kemendikdasmen:geo:106.7456313,-6.3638329
END:VEVENT
BEGIN:VEVENT
DTSTART;VALUE=DATE:20250826
DTEND;VALUE=DATE:20251218
DTSTAMP:20260421T115304
CREATED:20250929T022745Z
LAST-MODIFIED:20250929T022745Z
UID:10000076-1756166400-1766015999@ppsdm.kemendikdasmen.go.id
SUMMARY:Pelatihan Kepemimpinan Pengawas Angkatan 3 dan 4 Pemerintah Kota Batam
DESCRIPTION:Pelatihan Kepemimpinan Pengawas Pemerintah Kota Batam Angkatan 3 dan 4 Tahun 2025 dilaksanakan pada tanggal 26 Agustus  s.d. 17 Desember 2025. Pembelajaran dilaksanakan secara blended learning\, yaitu metode pembelajaran yang dilakukan dengan memadukan jalur pelatihan klasikal dengan jalur pelatihan nonklasikal. Pembelajaran klasikal\, metode nonklasikal dilakukan melalui e-learning secara langsung (synchronous) dan tidak langsung (asynchronous) dari tempat kedudukan masing-masing peserta.
URL:https://ppsdm.kemendikdasmen.go.id/event/pelatihan-kepemimpinan-pengawas-angkatan-3-dan-4-pemerintah-kota-batam/
LOCATION:Zoom Meetings\, Zoom Meetings
CATEGORIES:Pelatihan Kepemimpinan
ATTACH;FMTTYPE=image/jpeg:https://ppsdm.kemendikdasmen.go.id/wp-content/uploads/2025/06/pexels-fauxels-3184438-scaled.jpg
END:VEVENT
BEGIN:VEVENT
DTSTART;VALUE=DATE:20250901
DTEND;VALUE=DATE:20250926
DTSTAMP:20260421T115304
CREATED:20250911T070833Z
LAST-MODIFIED:20250911T071003Z
UID:10000055-1756684800-1758844799@ppsdm.kemendikdasmen.go.id
SUMMARY:Pelatihan Teknis Sistem Pemerintahan Berbasis Elektronik (SPBE) Angkatan 29 s.d. 32
DESCRIPTION:Dalam rangka mendukung transformasi digital di sektor pemerintahan untuk meningkatkan efisiensi\, transparansi\, dan akuntabilitas penyelenggaraan pemerintahan melalui pemanfaatan teknologi informasi dan komunikasi (TIK)\, Pusat Pelatihan Sumber Daya Manusia (PPSDM) Kemendikdasmen\, sesuai dengan tugas\, fungsi\, dan perannya dalam pengembangan kompetensi pegawai\, akan menyelenggarakan Pelatihan Teknis Sistem Pemerintahan Berbasis Elektronik (SPBE) Angkatan 29 s.d. 32 bagi pegawai yang memiliki irisan tugas terkait SPBE\, seperti perencanaan\, penganggaran\, pengelola TIK di lingkungan Kemendikdasmen. Pelatihan diselenggarakan pada tanggal 1 s.d. 25 September 2025 dengan menggunakan moda pembelajaran kombinasi (blended learning).
URL:https://ppsdm.kemendikdasmen.go.id/event/pelatihan-teknis-sistem-pemerintahan-berbasis-elektronik-spbe-angkatan-29-s-d-32/
LOCATION:Zoom Meetings\, Zoom Meetings
CATEGORIES:Pelatihan Teknis
ATTACH;FMTTYPE=image/png:https://ppsdm.kemendikdasmen.go.id/wp-content/uploads/2025/05/logo-spbe.png
END:VEVENT
BEGIN:VEVENT
DTSTART;VALUE=DATE:20250901
DTEND;VALUE=DATE:20250926
DTSTAMP:20260421T115304
CREATED:20250911T070939Z
LAST-MODIFIED:20250911T070939Z
UID:10000056-1756684800-1758844799@ppsdm.kemendikdasmen.go.id
SUMMARY:Pelatihan Teknis Pemanfaatan Kecerdasan Artifisial Angkatan 101 s.d. 110
DESCRIPTION:Dalam rangka menindaklanjuti kebijakan pengembangan kompetensi Aparatur Sipil Negara (ASN) dalam merespon dan mendukung Bangsa Cerdas dan Maju melalui Program Pendidikan Bermutu untuk Semua dalam pembelajaran yang Adaptif dan Bermakna\, serta dalam menyikapi kecerdasan artifisial di lingkungan Kementerian Pendidikan Dasar dan Menengah (Kemendikdasmen) dalam transformasi era digital dan revolusi industri\, pemahaman tentang kecerdasan artifisial menjadi keterampilan yang sangat penting bagi ASN untuk meningkatkan efisiensi kerja\, inovasi\, dan pelayanan publik. Sesuai dengan tugas\, fungsi dan peran Pusat Pelatihan Sumber Daya Manusia (PPSDM) Kemendikdasmen dalam pengembangan kompetensi pegawai\, PPSDM Kemendikdasmen akan menyelenggarakan Pelatihan Teknis Pemanfaatan Kecerdasan Artifisial Angkatan 101 s.d. 110 bagi pegawai di lingkungan Kemendikdasmen.
URL:https://ppsdm.kemendikdasmen.go.id/event/pelatihan-teknis-pemanfaatan-kecerdasan-artifisial-angkatan-101-s-d-110-2/
LOCATION:Zoom Meetings\, Zoom Meetings
CATEGORIES:Pelatihan Teknis
ATTACH;FMTTYPE=image/jpeg:https://ppsdm.kemendikdasmen.go.id/wp-content/uploads/2025/05/growtika-nGoCBxiaRO0-unsplash-scaled.jpg
END:VEVENT
BEGIN:VEVENT
DTSTART;VALUE=DATE:20250903
DTEND;VALUE=DATE:20251127
DTSTAMP:20260421T115304
CREATED:20250929T021243Z
LAST-MODIFIED:20250929T021243Z
UID:10000070-1756857600-1764201599@ppsdm.kemendikdasmen.go.id
SUMMARY:Pelatihan Dasar Calon Pegawai Negeri Sipil (CPNS) Kemendiktisaintek Angkatan 26 s.d. 29
DESCRIPTION:Pelatihan Dasar Calon Pegawai Negeri Sipil (CPNS) Kementerian Pendidikan Tinggi\, Sains dan Teknologi (Kemendiktisaintek) angkatan 26 s.d. 29
URL:https://ppsdm.kemendikdasmen.go.id/event/pelatihan-dasar-calon-pegawai-negeri-sipil-cpns-kemendiktisaintek-angkatan-26-s-d-29/
LOCATION:PPSDM Kemendikdasmen\, PPSDM Kemendikdasmen
CATEGORIES:Pelatihan Dasar
ATTACH;FMTTYPE=image/jpeg:https://ppsdm.kemendikdasmen.go.id/wp-content/uploads/2025/05/WhatsApp-Image-2025-05-15-at-13.14.26.jpeg
GEO:-6.3638329;106.7456313
X-APPLE-STRUCTURED-LOCATION;VALUE=URI;X-ADDRESS=PPSDM Kemendikdasmen PPSDM Kemendikdasmen;X-APPLE-RADIUS=500;X-TITLE=PPSDM Kemendikdasmen:geo:106.7456313,-6.3638329
END:VEVENT
BEGIN:VEVENT
DTSTART;VALUE=DATE:20250915
DTEND;VALUE=DATE:20251011
DTSTAMP:20260421T115304
CREATED:20250929T012330Z
LAST-MODIFIED:20250929T012330Z
UID:10000057-1757894400-1760140799@ppsdm.kemendikdasmen.go.id
SUMMARY:Pelatihan Teknis Pemanfaatan Kecerdasan Artifisial Angkatan 111 s.d. 115
DESCRIPTION:Dalam rangka menindaklanjuti kebijakan pengembangan kompetensi Aparatur Sipil Negara (ASN) dalam merespon dan mendukung Bangsa Cerdas dan Maju melalui Program Pendidikan Bermutu untuk Semua dalam pembelajaran yang Adaptif dan Bermakna\, serta dalam menyikapi kecerdasan artifisial di lingkungan Kementerian Pendidikan Dasar dan Menengah (Kemendikdasmen) dalam transformasi era digital dan revolusi industri\, pemahaman tentang kecerdasan artifisial menjadi keterampilan yang sangat penting bagi ASN untuk meningkatkan efisiensi kerja\, inovasi\, dan pelayanan publik. Sesuai dengan tugas\, fungsi dan peran Pusat Pelatihan Sumber Daya Manusia (PPSDM) Kemendikdasmen dalam pengembangan kompetensi pegawai\, PPSDM Kemendikdasmen akan menyelenggarakan Pelatihan Teknis Pemanfaatan Kecerdasan Artifisial Angkatan 111 s.d. 115 bagi pegawai di lingkungan Kemendikdasmen.
URL:https://ppsdm.kemendikdasmen.go.id/event/pelatihan-teknis-pemanfaatan-kecerdasan-artifisial-angkatan-111-s-d-115/
LOCATION:Zoom Meetings\, Zoom Meetings
CATEGORIES:Pelatihan Teknis
ATTACH;FMTTYPE=image/jpeg:https://ppsdm.kemendikdasmen.go.id/wp-content/uploads/2025/05/growtika-nGoCBxiaRO0-unsplash-scaled.jpg
END:VEVENT
BEGIN:VEVENT
DTSTART;VALUE=DATE:20250915
DTEND;VALUE=DATE:20251011
DTSTAMP:20260421T115304
CREATED:20250929T012712Z
LAST-MODIFIED:20250929T012712Z
UID:10000058-1757894400-1760140799@ppsdm.kemendikdasmen.go.id
SUMMARY:Pelatihan Teknis Sistem Pemerintahan Berbasis Elektronik (SPBE) Angkatan 33 s.d. 36
DESCRIPTION:Dalam rangka mendukung transformasi digital di sektor pemerintahan untuk meningkatkan efisiensi\, transparansi\, dan akuntabilitas penyelenggaraan pemerintahan melalui pemanfaatan teknologi informasi dan komunikasi (TIK)\, Pusat Pelatihan Sumber Daya Manusia (PPSDM) Kemendikdasmen\, sesuai dengan tugas\, fungsi\, dan perannya dalam pengembangan kompetensi pegawai\, akan menyelenggarakan Pelatihan Teknis Sistem Pemerintahan Berbasis Elektronik (SPBE) Angkatan 33 s.d. 36 bagi pegawai yang memiliki irisan tugas terkait SPBE\, seperti perencanaan\, penganggaran\, pengelola TIK di lingkungan Kemendikdasmen. Pelatihan diselenggarakan pada tanggal 15  September s.d. 10 Oktober 2025 dengan menggunakan moda pembelajaran kombinasi (blended learning).
URL:https://ppsdm.kemendikdasmen.go.id/event/pelatihan-teknis-sistem-pemerintahan-berbasis-elektronik-spbe-angkatan-33-s-d-36/
LOCATION:Zoom Meetings\, Zoom Meetings
CATEGORIES:Pelatihan Teknis
ATTACH;FMTTYPE=image/png:https://ppsdm.kemendikdasmen.go.id/wp-content/uploads/2025/05/logo-spbe.png
END:VEVENT
BEGIN:VEVENT
DTSTART;VALUE=DATE:20250915
DTEND;VALUE=DATE:20251011
DTSTAMP:20260421T115304
CREATED:20250929T012816Z
LAST-MODIFIED:20250929T012816Z
UID:10000059-1757894400-1760140799@ppsdm.kemendikdasmen.go.id
SUMMARY:Pelatihan Teknis Dasar-Dasar Kearsipan Angkatan 11 s.d 14
DESCRIPTION:Dalam rangka meningkatkan kemampuan dalam mengelola arsip yang baik sesuai ketentuan peraturan perundang-undangan yang berlaku. Pusat Pelatihan Sumber Daya Manusia (PPSDM) akan menyelenggarakan Pelatihan Teknis Dasar-dasar Kearsipan Angkatan 11 s.d. 14 bagi Aparatur Sipil Negara (ASN) pengelola kearsipan pada unit kerja di lingkungan Kementerian Pendidikan Dasar dan Menengah (Kemendikdasmen)
URL:https://ppsdm.kemendikdasmen.go.id/event/pelatihan-teknis-dasar-dasar-kearsipan-angkatan-11-s-d-14/
LOCATION:PPSDM Kemendikdasmen\, PPSDM Kemendikdasmen
CATEGORIES:Pelatihan Teknis
ATTACH;FMTTYPE=image/jpeg:https://ppsdm.kemendikdasmen.go.id/wp-content/uploads/2025/07/pexels-photo-4792285-scaled.jpeg
GEO:-6.3638329;106.7456313
X-APPLE-STRUCTURED-LOCATION;VALUE=URI;X-ADDRESS=PPSDM Kemendikdasmen PPSDM Kemendikdasmen;X-APPLE-RADIUS=500;X-TITLE=PPSDM Kemendikdasmen:geo:106.7456313,-6.3638329
END:VEVENT
BEGIN:VEVENT
DTSTART;VALUE=DATE:20250919
DTEND;VALUE=DATE:20251206
DTSTAMP:20260421T115304
CREATED:20250929T021458Z
LAST-MODIFIED:20250929T021458Z
UID:10000071-1758240000-1764979199@ppsdm.kemendikdasmen.go.id
SUMMARY:Pelatihan Dasar Calon Pegawai Negeri Sipil (CPNS) Kemenko PMK Kemendiktisaintek Angkatan 30
DESCRIPTION:Pelatihan Dasar Calon Pegawai Negeri Sipil (CPNS) Kementerian Koordinator Bidang Pembangunan Manusia dan Kebudayaan dan Kementerian Pendidikan Tinggi Sains dan Teknologi Angkatan 30
URL:https://ppsdm.kemendikdasmen.go.id/event/pelatihan-dasar-calon-pegawai-negeri-sipil-cpns-kemenko-pmk-kemendiktisaintek-angkatan-30/
LOCATION:Zoom Meetings\, Zoom Meetings
CATEGORIES:Pelatihan Dasar
ATTACH;FMTTYPE=image/jpeg:https://ppsdm.kemendikdasmen.go.id/wp-content/uploads/2025/05/WhatsApp-Image-2025-05-15-at-13.14.26.jpeg
END:VEVENT
END:VCALENDAR