BEGIN:VCALENDAR
VERSION:2.0
PRODID:-//PPSDM Kemendikdasmen - ECPv6.11.2//NONSGML v1.0//EN
CALSCALE:GREGORIAN
METHOD:PUBLISH
X-WR-CALNAME:PPSDM Kemendikdasmen
X-ORIGINAL-URL:https://ppsdm.kemendikdasmen.go.id
X-WR-CALDESC:Events for PPSDM Kemendikdasmen
REFRESH-INTERVAL;VALUE=DURATION:PT1H
X-Robots-Tag:noindex
X-PUBLISHED-TTL:PT1H
BEGIN:VTIMEZONE
TZID:Asia/Jakarta
BEGIN:STANDARD
TZOFFSETFROM:+0700
TZOFFSETTO:+0700
TZNAME:WIB
DTSTART:20250101T000000
END:STANDARD
END:VTIMEZONE
BEGIN:VEVENT
DTSTART;VALUE=DATE:20250826
DTEND;VALUE=DATE:20251218
DTSTAMP:20260423T031450
CREATED:20250929T022745Z
LAST-MODIFIED:20250929T022745Z
UID:10000076-1756166400-1766015999@ppsdm.kemendikdasmen.go.id
SUMMARY:Pelatihan Kepemimpinan Pengawas Angkatan 3 dan 4 Pemerintah Kota Batam
DESCRIPTION:Pelatihan Kepemimpinan Pengawas Pemerintah Kota Batam Angkatan 3 dan 4 Tahun 2025 dilaksanakan pada tanggal 26 Agustus  s.d. 17 Desember 2025. Pembelajaran dilaksanakan secara blended learning\, yaitu metode pembelajaran yang dilakukan dengan memadukan jalur pelatihan klasikal dengan jalur pelatihan nonklasikal. Pembelajaran klasikal\, metode nonklasikal dilakukan melalui e-learning secara langsung (synchronous) dan tidak langsung (asynchronous) dari tempat kedudukan masing-masing peserta.
URL:https://ppsdm.kemendikdasmen.go.id/event/pelatihan-kepemimpinan-pengawas-angkatan-3-dan-4-pemerintah-kota-batam/
LOCATION:Zoom Meetings\, Zoom Meetings
CATEGORIES:Pelatihan Kepemimpinan
ATTACH;FMTTYPE=image/jpeg:https://ppsdm.kemendikdasmen.go.id/wp-content/uploads/2025/06/pexels-fauxels-3184438-scaled.jpg
END:VEVENT
BEGIN:VEVENT
DTSTART;VALUE=DATE:20251123
DTEND;VALUE=DATE:20251213
DTSTAMP:20260423T031450
CREATED:20251204T075142Z
LAST-MODIFIED:20251210T022648Z
UID:10000105-1763856000-1765583999@ppsdm.kemendikdasmen.go.id
SUMMARY:Pelatihan Teknis Implementasi Pengelolaan Perpustakaan angkatan 7 s.d. 10
DESCRIPTION:pelatihan ini bertujuan untuk melakukan pengembangan kompetensi bagi para ASN terkait peran implementasi pengelolaan perpustakaan
URL:https://ppsdm.kemendikdasmen.go.id/event/pelatihan-teknis-implementasi-pengelolaan-perpustakaan-angkatan-7-s-d-10/
LOCATION:Hotel Ibis Gading Serpong\, Jl. Gading Serpong Boulevard Blok M5 No. 19\, Curug Sangereng\, Serpong Sub-District\, Tangerang Regency\, Banten 15810
CATEGORIES:Pelatihan Teknis
GEO:-6.2478897;106.6218351
X-APPLE-STRUCTURED-LOCATION;VALUE=URI;X-ADDRESS=Hotel Ibis Gading Serpong Jl. Gading Serpong Boulevard Blok M5 No. 19 Curug Sangereng Serpong Sub-District Tangerang Regency Banten 15810;X-APPLE-RADIUS=500;X-TITLE=Jl. Gading Serpong Boulevard Blok M5 No. 19\, Curug Sangereng\, Serpong Sub-District\, Tangerang Regency\, Banten 15810:geo:106.6218351,-6.2478897
END:VEVENT
BEGIN:VEVENT
DTSTART;VALUE=DATE:20251123
DTEND;VALUE=DATE:20251213
DTSTAMP:20260423T031450
CREATED:20251204T072059Z
LAST-MODIFIED:20251209T012210Z
UID:10000101-1763856000-1765583999@ppsdm.kemendikdasmen.go.id
SUMMARY:Pelatihan Teknis Peningkatan Pelayanan Publik Angkatan 17 s.d. 20
DESCRIPTION:Dalam rangka meningkatkan kemampuan dalam memahami dan menerapkan pelayanan publik sesuai dengan tugas\, fungsi\, peran\, dan jabatan pada instansi masing-masing\, Pusat Pelatihan Sumber Daya Manusia akan menyelenggarakan Pelatihan Teknis Peningkatan Pelayanan Publik Angkatan 17 s.d. 20 bagi aparatur sipil negara.
URL:https://ppsdm.kemendikdasmen.go.id/event/pelatihan-teknis-peningkatan-pelayanan-publik-angkatan-17-s-d-20/
LOCATION:Swiss Bellcourt Bogor\, Jl. Sholeh Iskandar Jl. Bukit Cimanggu City Raya No.1\, RT.01/RW.13\, Cibadak\, Kec. Tanah Sereal\, Kota Bogor\, Jawa Barat 16168
CATEGORIES:Pelatihan Teknis
ATTACH;FMTTYPE=image/jpeg:https://ppsdm.kemendikdasmen.go.id/wp-content/uploads/2025/07/pexels-mart-production-7709166-scaled.jpg
GEO:-6.5563063;106.7797352
X-APPLE-STRUCTURED-LOCATION;VALUE=URI;X-ADDRESS=Swiss Bellcourt Bogor Jl. Sholeh Iskandar Jl. Bukit Cimanggu City Raya No.1 RT.01/RW.13 Cibadak Kec. Tanah Sereal Kota Bogor Jawa Barat 16168;X-APPLE-RADIUS=500;X-TITLE=Jl. Sholeh Iskandar Jl. Bukit Cimanggu City Raya No.1\, RT.01/RW.13\, Cibadak\, Kec. Tanah Sereal\, Kota Bogor\, Jawa Barat 16168:geo:106.7797352,-6.5563063
END:VEVENT
BEGIN:VEVENT
DTSTART;VALUE=DATE:20251123
DTEND;VALUE=DATE:20251213
DTSTAMP:20260423T031450
CREATED:20251204T072334Z
LAST-MODIFIED:20251209T012558Z
UID:10000102-1763856000-1765583999@ppsdm.kemendikdasmen.go.id
SUMMARY:Pelatihan Teknis Membangun Kerja Sama Angkatan 17 s.d. 18
DESCRIPTION:Dalam rangka meningkatkan kemampuan dalam menjalin\, membina\, dan mempertahankan hubungan kerja yang efektif\, serta menumbuhkan komitmen untuk saling membantu dalam penyelesaian tugas dan mengoptimalkan sumber daya guna mencapai tujuan strategis organisasi\, Pusat Pelatihan Sumber Daya Manusia (PPSDM) akan menyelenggarakan Pelatihan Teknis Membangun Kerja Sama Angkatan 17 dan 18 bagi Aparatur Sipil Negara (ASN).
URL:https://ppsdm.kemendikdasmen.go.id/event/pelatihan-teknis-membangun-kerja-sama-angkatan-17-s-d-18/
LOCATION:Platinum Adisucipto Hotel & Conference Center\, Jl. Raya Solo - Yogyakarta No.28 10th floor\, Sambelegi Kidul\, Maguwoharjo\, Depok\, Sleman Regency\, Special Region of Yogyakarta 55282
CATEGORIES:Pelatihan Teknis
ATTACH;FMTTYPE=image/jpeg:https://ppsdm.kemendikdasmen.go.id/wp-content/uploads/2025/07/pexels-diva-plavalaguna-6147363-scaled.jpg
GEO:-7.7831166;110.4346286
X-APPLE-STRUCTURED-LOCATION;VALUE=URI;X-ADDRESS=Platinum Adisucipto Hotel & Conference Center Jl. Raya Solo - Yogyakarta No.28 10th floor Sambelegi Kidul Maguwoharjo Depok Sleman Regency Special Region of Yogyakarta 55282;X-APPLE-RADIUS=500;X-TITLE=Jl. Raya Solo - Yogyakarta No.28 10th floor\, Sambelegi Kidul\, Maguwoharjo\, Depok\, Sleman Regency\, Special Region of Yogyakarta 55282:geo:110.4346286,-7.7831166
END:VEVENT
BEGIN:VEVENT
DTSTART;VALUE=DATE:20251123
DTEND;VALUE=DATE:20251213
DTSTAMP:20260423T031450
CREATED:20251204T074557Z
LAST-MODIFIED:20251209T012837Z
UID:10000103-1763856000-1765583999@ppsdm.kemendikdasmen.go.id
SUMMARY:Pelatihan Teknis Perekat Bangsa angkatan 5 s.d. 8
DESCRIPTION:Pelatihan ini bertujuan untuk melakukan pengembangan kompetensi bagi para ASN dalam peran perekat bangsa
URL:https://ppsdm.kemendikdasmen.go.id/event/pelatihan-teknis-perekat-bangsa-angkatan-5-s-d-8/
LOCATION:Grande Padjadjaran Hotel Bogor\, Jl. Raya Pajajaran No.17\, RT.02/RW.03\, Bantarjati\, Kec. Bogor Utara\, Kota Bogor\, Jawa Barat 16153
CATEGORIES:Pelatihan Teknis
ATTACH;FMTTYPE=image/jpeg:https://ppsdm.kemendikdasmen.go.id/wp-content/uploads/2025/06/pexels-fauxels-3184438-scaled.jpg
GEO:-6.5764517;106.8027148
X-APPLE-STRUCTURED-LOCATION;VALUE=URI;X-ADDRESS=Grande Padjadjaran Hotel Bogor Jl. Raya Pajajaran No.17 RT.02/RW.03 Bantarjati Kec. Bogor Utara Kota Bogor Jawa Barat 16153;X-APPLE-RADIUS=500;X-TITLE=Jl. Raya Pajajaran No.17\, RT.02/RW.03\, Bantarjati\, Kec. Bogor Utara\, Kota Bogor\, Jawa Barat 16153:geo:106.8027148,-6.5764517
END:VEVENT
BEGIN:VEVENT
DTSTART;VALUE=DATE:20251123
DTEND;VALUE=DATE:20251213
DTSTAMP:20260423T031450
CREATED:20251204T074859Z
LAST-MODIFIED:20251209T014100Z
UID:10000104-1763856000-1765583999@ppsdm.kemendikdasmen.go.id
SUMMARY:Pelatihan Teknis Kearsipan Tingkat Dasar Angkatan 11 s.d 14
DESCRIPTION:Dalam rangka meningkatkan kemampuan dalam mengelola arsip yang baik sesuai ketentuan peraturan perundang-undangan yang berlaku. Pusat Pelatihan Sumber Daya Manusia (PPSDM) akan menyelenggarakan Pelatihan Teknis Kearsipan Tingkat Dasar Angkatan 11 s.d 14 bagi Aparatur Sipil Negara (ASN) pengelola kearsipan pada unit kerja di lingkungan Kementerian Pendidikan Dasar dan Menengah (Kemendikdasmen)
URL:https://ppsdm.kemendikdasmen.go.id/event/pelatihan-teknis-kearsipan-tingkat-dasar-angkatan-11-s-d-14/
LOCATION:Hotel Aria Centra Surabaya\, Jl. Taman AIS Nasution No.37\, Embong Kaliasin\, Kec. Genteng\, Surabaya\, Jawa Timur 60271
CATEGORIES:Pelatihan Teknis
ATTACH;FMTTYPE=image/jpeg:https://ppsdm.kemendikdasmen.go.id/wp-content/uploads/2025/07/pexels-photo-4792285-scaled.jpeg
GEO:-7.2676644;112.7410931
X-APPLE-STRUCTURED-LOCATION;VALUE=URI;X-ADDRESS=Hotel Aria Centra Surabaya Jl. Taman AIS Nasution No.37 Embong Kaliasin Kec. Genteng Surabaya Jawa Timur 60271;X-APPLE-RADIUS=500;X-TITLE=Jl. Taman AIS Nasution No.37\, Embong Kaliasin\, Kec. Genteng\, Surabaya\, Jawa Timur 60271:geo:112.7410931,-7.2676644
END:VEVENT
BEGIN:VEVENT
DTSTART;VALUE=DATE:20251130
DTEND;VALUE=DATE:20251207
DTSTAMP:20260423T031450
CREATED:20251203T083027Z
LAST-MODIFIED:20251210T022602Z
UID:10000096-1764460800-1765065599@ppsdm.kemendikdasmen.go.id
SUMMARY:Pelatihan Kepakaran Widyabasa angkatan 1 dan 2
DESCRIPTION:pelatihan ini bertujuan untuk melakukan pengembangan kompetensi bagi para ASN terkait peran kepakaran widyabasa
URL:https://ppsdm.kemendikdasmen.go.id/event/pelatihan-kepakaran-widyabasa-angkatan-1-dan-2/
LOCATION:PPSDM Kemendikdasmen\, PPSDM Kemendikdasmen
CATEGORIES:Pelatihan Fungsional
GEO:-6.3638329;106.7456313
X-APPLE-STRUCTURED-LOCATION;VALUE=URI;X-ADDRESS=PPSDM Kemendikdasmen PPSDM Kemendikdasmen;X-APPLE-RADIUS=500;X-TITLE=PPSDM Kemendikdasmen:geo:106.7456313,-6.3638329
END:VEVENT
BEGIN:VEVENT
DTSTART;VALUE=DATE:20251130
DTEND;VALUE=DATE:20251207
DTSTAMP:20260423T031450
CREATED:20251203T083625Z
LAST-MODIFIED:20251210T022448Z
UID:10000098-1764460800-1765065599@ppsdm.kemendikdasmen.go.id
SUMMARY:Pelatihan Pembekalan Jabatan Fungsional Pengembangan Teknologi Pembelajaran Angkatan 1
DESCRIPTION:pelatihan ini bertujuan untuk melakukan pengembangan kompetensi bagi para ASN terkait peran jabatan fungsional pengembangan teknologi pembelajaran
URL:https://ppsdm.kemendikdasmen.go.id/event/pelatihan-pembekalan-jabatan-fungsional-pengembangan-teknologi-pembelajaran-angkatan-1/
LOCATION:PPSDM Kemendikdasmen\, PPSDM Kemendikdasmen
CATEGORIES:Pelatihan Fungsional
GEO:-6.3638329;106.7456313
X-APPLE-STRUCTURED-LOCATION;VALUE=URI;X-ADDRESS=PPSDM Kemendikdasmen PPSDM Kemendikdasmen;X-APPLE-RADIUS=500;X-TITLE=PPSDM Kemendikdasmen:geo:106.7456313,-6.3638329
END:VEVENT
BEGIN:VEVENT
DTSTART;VALUE=DATE:20251130
DTEND;VALUE=DATE:20251207
DTSTAMP:20260423T031450
CREATED:20251203T042131Z
LAST-MODIFIED:20251203T042131Z
UID:10000086-1764460800-1765065599@ppsdm.kemendikdasmen.go.id
SUMMARY:Pelatihan Orientasi Pegawai Pemerintah dengan Perjanjian Kerja Angkatan 43 dan 50
DESCRIPTION:Dalam rangka memberikan pengetahuan dasar terkait pengenalan tugas dan fungsi ASN serta membentuk Pegawai Pemerintah dengan Perjanjan Kerja dapat melaksanakan tugasnya secara profesional yang berkarakter sebagai pelayan masyarakar di lingkungan Kementerian Pendidikan Dasar dan Menengah (Kemendikdasmen)
URL:https://ppsdm.kemendikdasmen.go.id/event/pelatihan-orientasi-pegawai-pemerintah-dengan-perjanjian-kerja-angkatan-43-dan-50/
LOCATION:PPSDM Kemendikdasmen\, PPSDM Kemendikdasmen
CATEGORIES:Pelatihan Dasar
ATTACH;FMTTYPE=image/jpeg:https://ppsdm.kemendikdasmen.go.id/wp-content/uploads/2025/10/DSC01686-scaled.jpg
GEO:-6.3638329;106.7456313
X-APPLE-STRUCTURED-LOCATION;VALUE=URI;X-ADDRESS=PPSDM Kemendikdasmen PPSDM Kemendikdasmen;X-APPLE-RADIUS=500;X-TITLE=PPSDM Kemendikdasmen:geo:106.7456313,-6.3638329
END:VEVENT
BEGIN:VEVENT
DTSTART;VALUE=DATE:20251130
DTEND;VALUE=DATE:20251207
DTSTAMP:20260423T031450
CREATED:20251203T042234Z
LAST-MODIFIED:20251203T042234Z
UID:10000087-1764460800-1765065599@ppsdm.kemendikdasmen.go.id
SUMMARY:Pelatihan Orientasi Pegawai Pemerintah dengan Perjanjian Kerja Angkatan 51 dan 52
DESCRIPTION:Dalam rangka memberikan pengetahuan dasar terkait pengenalan tugas dan fungsi ASN serta membentuk Pegawai Pemerintah dengan Perjanjan Kerja dapat melaksanakan tugasnya secara profesional yang berkarakter sebagai pelayan masyarakar di lingkungan Kementerian Pendidikan Dasar dan Menengah (Kemendikdasmen)
URL:https://ppsdm.kemendikdasmen.go.id/event/pelatihan-orientasi-pegawai-pemerintah-dengan-perjanjian-kerja-angkatan-51-dan-52/
LOCATION:PPSDMA Perhubungan\, Jl. Slamet Riyadi No.272\, Timuran\, Kec. Banjarsari\, Kota Surakarta\, Jawa Tengah 57141
CATEGORIES:Pelatihan Dasar
ATTACH;FMTTYPE=image/jpeg:https://ppsdm.kemendikdasmen.go.id/wp-content/uploads/2025/10/DSC01686-scaled.jpg
GEO:-7.5678834;110.8145579
X-APPLE-STRUCTURED-LOCATION;VALUE=URI;X-ADDRESS=PPSDMA Perhubungan Jl. Slamet Riyadi No.272 Timuran Kec. Banjarsari Kota Surakarta Jawa Tengah 57141;X-APPLE-RADIUS=500;X-TITLE=Jl. Slamet Riyadi No.272\, Timuran\, Kec. Banjarsari\, Kota Surakarta\, Jawa Tengah 57141:geo:110.8145579,-7.5678834
END:VEVENT
BEGIN:VEVENT
DTSTART;VALUE=DATE:20251130
DTEND;VALUE=DATE:20251207
DTSTAMP:20260423T031450
CREATED:20251203T075306Z
LAST-MODIFIED:20251203T080601Z
UID:10000089-1764460800-1765065599@ppsdm.kemendikdasmen.go.id
SUMMARY:Pelatihan Teknis Kearsipan Tingkat Dasar Angkatan 15 s.d 18
DESCRIPTION:Dalam rangka meningkatkan kemampuan dalam mengelola arsip yang baik sesuai ketentuan peraturan perundang-undangan yang berlaku. Pusat Pelatihan Sumber Daya Manusia (PPSDM) akan menyelenggarakan Pelatihan Teknis Kearsipan Tingkat Dasar Angkatan 15 s.d 18 bagi Aparatur Sipil Negara (ASN) pengelola kearsipan pada unit kerja di lingkungan Kementerian Pendidikan Dasar dan Menengah (Kemendikdasmen)
URL:https://ppsdm.kemendikdasmen.go.id/event/pelatihan-teknis-kearsipan-tingkat-dasar-angkatan-15-s-d-18/
LOCATION:PPSDM Kemendikdasmen\, PPSDM Kemendikdasmen
CATEGORIES:Pelatihan Teknis
ATTACH;FMTTYPE=image/jpeg:https://ppsdm.kemendikdasmen.go.id/wp-content/uploads/2025/07/pexels-photo-4792285-scaled.jpeg
GEO:-6.3638329;106.7456313
X-APPLE-STRUCTURED-LOCATION;VALUE=URI;X-ADDRESS=PPSDM Kemendikdasmen PPSDM Kemendikdasmen;X-APPLE-RADIUS=500;X-TITLE=PPSDM Kemendikdasmen:geo:106.7456313,-6.3638329
END:VEVENT
BEGIN:VEVENT
DTSTART;VALUE=DATE:20251130
DTEND;VALUE=DATE:20251207
DTSTAMP:20260423T031450
CREATED:20251203T080944Z
LAST-MODIFIED:20251203T080944Z
UID:10000091-1764460800-1765065599@ppsdm.kemendikdasmen.go.id
SUMMARY:Pelatihan Teknis Perekat Bangsa angkatan 9 s.d. 12
DESCRIPTION:Pelatihan ini bertujuan untuk melakukan pengembangan kompetensi bagi para ASN dalam peran perekat bangsa
URL:https://ppsdm.kemendikdasmen.go.id/event/pelatihan-teknis-perekat-bangsa-angkatan-9-s-d-12/
LOCATION:PPSDM Kemendikdasmen\, PPSDM Kemendikdasmen
CATEGORIES:Pelatihan Teknis
ATTACH;FMTTYPE=image/jpeg:https://ppsdm.kemendikdasmen.go.id/wp-content/uploads/2025/06/pexels-fauxels-3184438-scaled.jpg
GEO:-6.3638329;106.7456313
X-APPLE-STRUCTURED-LOCATION;VALUE=URI;X-ADDRESS=PPSDM Kemendikdasmen PPSDM Kemendikdasmen;X-APPLE-RADIUS=500;X-TITLE=PPSDM Kemendikdasmen:geo:106.7456313,-6.3638329
END:VEVENT
BEGIN:VEVENT
DTSTART;VALUE=DATE:20251130
DTEND;VALUE=DATE:20251207
DTSTAMP:20260423T031450
CREATED:20251203T081847Z
LAST-MODIFIED:20251203T081847Z
UID:10000094-1764460800-1765065599@ppsdm.kemendikdasmen.go.id
SUMMARY:Pelatihan Teknis Peningkatan Pelayanan Publik Angkatan 21 s.d. 24
DESCRIPTION:Dalam rangka meningkatkan kemampuan dalam memahami dan menerapkan pelayanan publik sesuai dengan tugas\, fungsi\, peran\, dan jabatan pada instansi masing-masing\, Pusat Pelatihan Sumber Daya Manusia akan menyelenggarakan Pelatihan Teknis Peningkatan Pelayanan Publik Angkatan 1 s.d. 4 bagi aparatur sipil negara.
URL:https://ppsdm.kemendikdasmen.go.id/event/pelatihan-teknis-peningkatan-pelayanan-publik-angkatan-21-s-d-24/
LOCATION:PPSDM Kemendikdasmen\, PPSDM Kemendikdasmen
CATEGORIES:Pelatihan Teknis
ATTACH;FMTTYPE=image/jpeg:https://ppsdm.kemendikdasmen.go.id/wp-content/uploads/2025/07/pexels-mart-production-7709166-scaled.jpg
GEO:-6.3638329;106.7456313
X-APPLE-STRUCTURED-LOCATION;VALUE=URI;X-ADDRESS=PPSDM Kemendikdasmen PPSDM Kemendikdasmen;X-APPLE-RADIUS=500;X-TITLE=PPSDM Kemendikdasmen:geo:106.7456313,-6.3638329
END:VEVENT
BEGIN:VEVENT
DTSTART;VALUE=DATE:20251130
DTEND;VALUE=DATE:20251207
DTSTAMP:20260423T031450
CREATED:20251203T082149Z
LAST-MODIFIED:20251203T082149Z
UID:10000095-1764460800-1765065599@ppsdm.kemendikdasmen.go.id
SUMMARY:Pelatihan Teknis Membangun Kerja Sama Angkatan 19 s.d. 22
DESCRIPTION:Dalam rangka meningkatkan kemampuan dalam menjalin\, membina\, dan mempertahankan hubungan kerja yang efektif\, serta menumbuhkan komitmen untuk saling membantu dalam penyelesaian tugas dan mengoptimalkan sumber daya guna mencapai tujuan strategis organisasi\, Pusat Pelatihan Sumber Daya Manusia (PPSDM) akan menyelenggarakan Pelatihan Teknis Membangun Kerja Sama Angkatan 1 dan 2 bagi Aparatur Sipil Negara (ASN).
URL:https://ppsdm.kemendikdasmen.go.id/event/pelatihan-teknis-membangun-kerja-sama-angkatan-19-s-d-22/
LOCATION:PPSDM Kemendikdasmen\, PPSDM Kemendikdasmen
CATEGORIES:Pelatihan Teknis
ATTACH;FMTTYPE=image/jpeg:https://ppsdm.kemendikdasmen.go.id/wp-content/uploads/2025/07/pexels-diva-plavalaguna-6147363-scaled.jpg
GEO:-6.3638329;106.7456313
X-APPLE-STRUCTURED-LOCATION;VALUE=URI;X-ADDRESS=PPSDM Kemendikdasmen PPSDM Kemendikdasmen;X-APPLE-RADIUS=500;X-TITLE=PPSDM Kemendikdasmen:geo:106.7456313,-6.3638329
END:VEVENT
BEGIN:VEVENT
DTSTART;TZID=Asia/Jakarta:20251130T080000
DTEND;TZID=Asia/Jakarta:20251206T170000
DTSTAMP:20260423T031450
CREATED:20251203T083343Z
LAST-MODIFIED:20251210T022533Z
UID:10000097-1764489600-1765040400@ppsdm.kemendikdasmen.go.id
SUMMARY:Pelatihan Teknis Implementasi Pengelolaan Perpustakaan angkatan 11 dan 12
DESCRIPTION:pelatihan ini bertujuan untuk elakukan pengembangan kompetensi bagi para ASN terkait peran implementasi pengelolaan perpustakaan
URL:https://ppsdm.kemendikdasmen.go.id/event/pelatihan-teknis-implementasi-pengelolaan-perpustakaan-angkatan-11-dan-12/
LOCATION:PPSDM Kemendikdasmen\, PPSDM Kemendikdasmen
CATEGORIES:Pelatihan Teknis
GEO:-6.3638329;106.7456313
X-APPLE-STRUCTURED-LOCATION;VALUE=URI;X-ADDRESS=PPSDM Kemendikdasmen PPSDM Kemendikdasmen;X-APPLE-RADIUS=500;X-TITLE=PPSDM Kemendikdasmen:geo:106.7456313,-6.3638329
END:VEVENT
END:VCALENDAR