BEGIN:VCALENDAR
VERSION:2.0
PRODID:-//PPSDM Kemendikdasmen - ECPv6.11.2//NONSGML v1.0//EN
CALSCALE:GREGORIAN
METHOD:PUBLISH
X-WR-CALNAME:PPSDM Kemendikdasmen
X-ORIGINAL-URL:https://ppsdm.kemendikdasmen.go.id
X-WR-CALDESC:Events for PPSDM Kemendikdasmen
REFRESH-INTERVAL;VALUE=DURATION:PT1H
X-Robots-Tag:noindex
X-PUBLISHED-TTL:PT1H
BEGIN:VTIMEZONE
TZID:Asia/Jakarta
BEGIN:STANDARD
TZOFFSETFROM:+0700
TZOFFSETTO:+0700
TZNAME:WIB
DTSTART:20260101T000000
END:STANDARD
END:VTIMEZONE
BEGIN:VEVENT
DTSTART;VALUE=DATE:20260206
DTEND;VALUE=DATE:20260510
DTSTAMP:20260421T160530
CREATED:20260212T035034Z
LAST-MODIFIED:20260212T035034Z
UID:10000153-1770336000-1778371199@ppsdm.kemendikdasmen.go.id
SUMMARY:Pelatihan Dasar Calon Pegawai Negeri Sipil (CPNS) Kemendiktisaintek Angkatan 1 s.d. 4
DESCRIPTION:Pelatihan Dasar Calon Pegawai Negeri Sipil (CPNS) Kementerian Pendidikan Tinggi Sains dan Teknologi Angkatan I s.d IV
URL:https://ppsdm.kemendikdasmen.go.id/event/pelatihan-dasar-calon-pegawai-negeri-sipil-cpns-kemendiktisaintek-angkatan-1-s-d-4/
LOCATION:Zoom Meetings\, Zoom Meetings
CATEGORIES:Pelatihan Dasar
ATTACH;FMTTYPE=image/jpeg:https://ppsdm.kemendikdasmen.go.id/wp-content/uploads/2025/05/WhatsApp-Image-2025-05-15-at-13.14.26.jpeg
END:VEVENT
BEGIN:VEVENT
DTSTART;VALUE=DATE:20260209
DTEND;VALUE=DATE:20260514
DTSTAMP:20260421T160530
CREATED:20260212T035257Z
LAST-MODIFIED:20260212T035257Z
UID:10000154-1770595200-1778716799@ppsdm.kemendikdasmen.go.id
SUMMARY:Pelatihan Dasar Calon Pegawai Negeri Sipil (CPNS) Kemendiktisaintek Angkatan 5 s.d. 9
DESCRIPTION:Pelatihan Dasar Calon Pegawai Negeri Sipil (CPNS) Kementerian Pendidikan Tinggi Sains dan Teknologi Angkatan V s.d IX
URL:https://ppsdm.kemendikdasmen.go.id/event/pelatihan-dasar-calon-pegawai-negeri-sipil-cpns-kemendiktisaintek-angkatan-5-s-d-9/
LOCATION:Zoom Meetings\, Zoom Meetings
CATEGORIES:Pelatihan Dasar
ATTACH;FMTTYPE=image/jpeg:https://ppsdm.kemendikdasmen.go.id/wp-content/uploads/2025/05/WhatsApp-Image-2025-05-15-at-13.14.26.jpeg
END:VEVENT
BEGIN:VEVENT
DTSTART;VALUE=DATE:20260213
DTEND;VALUE=DATE:20260524
DTSTAMP:20260421T160530
CREATED:20260224T031754Z
LAST-MODIFIED:20260224T031754Z
UID:10000156-1770940800-1779580799@ppsdm.kemendikdasmen.go.id
SUMMARY:Pelatihan Dasar Calon Pegawai Negeri Sipil (CPNS) Kemendiktisaintek Angkatan 10 s.d. 13
DESCRIPTION:Pelatihan Dasar Calon Pegawai Negeri Sipil (CPNS) Kementerian Pendidikan Tinggi Sains dan Teknologi Angkatan X s.d XIII
URL:https://ppsdm.kemendikdasmen.go.id/event/pelatihan-dasar-calon-pegawai-negeri-sipil-cpns-kemendiktisaintek-angkatan-10-s-d-13/
LOCATION:Zoom Meetings\, Zoom Meetings
CATEGORIES:Pelatihan Dasar
ATTACH;FMTTYPE=image/jpeg:https://ppsdm.kemendikdasmen.go.id/wp-content/uploads/2025/05/WhatsApp-Image-2025-05-15-at-13.14.26.jpeg
END:VEVENT
BEGIN:VEVENT
DTSTART;VALUE=DATE:20260220
DTEND;VALUE=DATE:20260607
DTSTAMP:20260421T160530
CREATED:20260224T035954Z
LAST-MODIFIED:20260224T035954Z
UID:10000157-1771545600-1780790399@ppsdm.kemendikdasmen.go.id
SUMMARY:Pelatihan Dasar Calon Pegawai Negeri Sipil (CPNS) Kemendiktisaintek Angkatan 14 s.d. 17
DESCRIPTION:Pelatihan Dasar Calon Pegawai Negeri Sipil (CPNS) Kementerian Pendidikan Tinggi Sains dan Teknologi Angkatan XIV s.d XVII
URL:https://ppsdm.kemendikdasmen.go.id/event/pelatihan-dasar-calon-pegawai-negeri-sipil-cpns-kemendiktisaintek-angkatan-14-s-d-17/
LOCATION:Zoom Meetings\, Zoom Meetings
CATEGORIES:Pelatihan Dasar
ATTACH;FMTTYPE=image/jpeg:https://ppsdm.kemendikdasmen.go.id/wp-content/uploads/2025/05/WhatsApp-Image-2025-05-15-at-13.14.26.jpeg
END:VEVENT
BEGIN:VEVENT
DTSTART;VALUE=DATE:20260223
DTEND;VALUE=DATE:20260314
DTSTAMP:20260421T160530
CREATED:20260224T031327Z
LAST-MODIFIED:20260224T031327Z
UID:10000155-1771804800-1773446399@ppsdm.kemendikdasmen.go.id
SUMMARY:Pelatihan Fungsional Penguatan Widyaiswara Perpindahan Jabatan/Promosi Angkatan 1 dan 2
DESCRIPTION:Dalam rangka peningkatan kompetensi Aparatur Sipil Negara (ASN) yang menduduki Jabatan Fungsional Widyaiswara di lingkungan Kementerian Pendidikan Dasar dan Menengah\, Pusat Pelatihan Sumber Daya Manusia  Kemendikdasmen akan menyelenggarakan Pelatihan Fungsional Penguatan Widyaiswara Perpindahan Jabatan/Promosi Angkatan 1 dan 2
URL:https://ppsdm.kemendikdasmen.go.id/event/pelatihan-fungsional-penguatan-widyaiswara-perpindahan-jabatan-promosi-angkatan-1-dan-2/
LOCATION:PPSDM Kemendikdasmen\, PPSDM Kemendikdasmen
CATEGORIES:Pelatihan Fungsional
ATTACH;FMTTYPE=image/jpeg:https://ppsdm.kemendikdasmen.go.id/wp-content/uploads/2025/06/jeshoots-com-5EKw8Z7CgE4-unsplash-scaled.jpg
GEO:-6.3638329;106.7456313
X-APPLE-STRUCTURED-LOCATION;VALUE=URI;X-ADDRESS=PPSDM Kemendikdasmen PPSDM Kemendikdasmen;X-APPLE-RADIUS=500;X-TITLE=PPSDM Kemendikdasmen:geo:106.7456313,-6.3638329
END:VEVENT
BEGIN:VEVENT
DTSTART;VALUE=DATE:20260225
DTEND;VALUE=DATE:20260611
DTSTAMP:20260421T160530
CREATED:20260304T014006Z
LAST-MODIFIED:20260304T014006Z
UID:10000158-1771977600-1781135999@ppsdm.kemendikdasmen.go.id
SUMMARY:Pelatihan Dasar Calon Pegawai Negeri Sipil (CPNS) Kemendiktisaintek Angkatan 18 s.d. 21
DESCRIPTION:Pelatihan Dasar Calon Pegawai Negeri Sipil (CPNS) Kementerian Pendidikan Tinggi Sains dan Teknologi Angkatan XVIII s.d XXI
URL:https://ppsdm.kemendikdasmen.go.id/event/pelatihan-dasar-calon-pegawai-negeri-sipil-cpns-kemendiktisaintek-angkatan-18-s-d-21/
LOCATION:Zoom Meetings\, Zoom Meetings
CATEGORIES:Pelatihan Dasar
ATTACH;FMTTYPE=image/jpeg:https://ppsdm.kemendikdasmen.go.id/wp-content/uploads/2025/05/WhatsApp-Image-2025-05-15-at-13.14.26.jpeg
END:VEVENT
END:VCALENDAR