BEGIN:VCALENDAR
VERSION:2.0
PRODID:-//PPSDM Kemendikdasmen - ECPv6.11.2//NONSGML v1.0//EN
CALSCALE:GREGORIAN
METHOD:PUBLISH
X-WR-CALNAME:PPSDM Kemendikdasmen
X-ORIGINAL-URL:https://ppsdm.kemendikdasmen.go.id
X-WR-CALDESC:Events for PPSDM Kemendikdasmen
REFRESH-INTERVAL;VALUE=DURATION:PT1H
X-Robots-Tag:noindex
X-PUBLISHED-TTL:PT1H
BEGIN:VTIMEZONE
TZID:Asia/Jakarta
BEGIN:STANDARD
TZOFFSETFROM:+0700
TZOFFSETTO:+0700
TZNAME:WIB
DTSTART:20260101T000000
END:STANDARD
END:VTIMEZONE
BEGIN:VEVENT
DTSTART;VALUE=DATE:20260220
DTEND;VALUE=DATE:20260607
DTSTAMP:20260425T180209
CREATED:20260224T035954Z
LAST-MODIFIED:20260224T035954Z
UID:10000157-1771545600-1780790399@ppsdm.kemendikdasmen.go.id
SUMMARY:Pelatihan Dasar Calon Pegawai Negeri Sipil (CPNS) Kemendiktisaintek Angkatan 14 s.d. 17
DESCRIPTION:Pelatihan Dasar Calon Pegawai Negeri Sipil (CPNS) Kementerian Pendidikan Tinggi Sains dan Teknologi Angkatan XIV s.d XVII
URL:https://ppsdm.kemendikdasmen.go.id/event/pelatihan-dasar-calon-pegawai-negeri-sipil-cpns-kemendiktisaintek-angkatan-14-s-d-17/
LOCATION:Zoom Meetings\, Zoom Meetings
CATEGORIES:Pelatihan Dasar
ATTACH;FMTTYPE=image/jpeg:https://ppsdm.kemendikdasmen.go.id/wp-content/uploads/2025/05/WhatsApp-Image-2025-05-15-at-13.14.26.jpeg
END:VEVENT
BEGIN:VEVENT
DTSTART;VALUE=DATE:20260225
DTEND;VALUE=DATE:20260611
DTSTAMP:20260425T180209
CREATED:20260304T014006Z
LAST-MODIFIED:20260304T014006Z
UID:10000158-1771977600-1781135999@ppsdm.kemendikdasmen.go.id
SUMMARY:Pelatihan Dasar Calon Pegawai Negeri Sipil (CPNS) Kemendiktisaintek Angkatan 18 s.d. 21
DESCRIPTION:Pelatihan Dasar Calon Pegawai Negeri Sipil (CPNS) Kementerian Pendidikan Tinggi Sains dan Teknologi Angkatan XVIII s.d XXI
URL:https://ppsdm.kemendikdasmen.go.id/event/pelatihan-dasar-calon-pegawai-negeri-sipil-cpns-kemendiktisaintek-angkatan-18-s-d-21/
LOCATION:Zoom Meetings\, Zoom Meetings
CATEGORIES:Pelatihan Dasar
ATTACH;FMTTYPE=image/jpeg:https://ppsdm.kemendikdasmen.go.id/wp-content/uploads/2025/05/WhatsApp-Image-2025-05-15-at-13.14.26.jpeg
END:VEVENT
END:VCALENDAR